BEGIN:VCALENDAR
VERSION:2.0
PRODID:-//The Garden Club of Hingham - ECPv6.15.18//NONSGML v1.0//EN
CALSCALE:GREGORIAN
METHOD:PUBLISH
X-ORIGINAL-URL:https://gardenclubofhingham.org
X-WR-CALDESC:Events for The Garden Club of Hingham
REFRESH-INTERVAL;VALUE=DURATION:PT1H
X-Robots-Tag:noindex
X-PUBLISHED-TTL:PT1H
BEGIN:VTIMEZONE
TZID:America/New_York
BEGIN:DAYLIGHT
TZOFFSETFROM:-0500
TZOFFSETTO:-0400
TZNAME:EDT
DTSTART:20210314T070000
END:DAYLIGHT
BEGIN:STANDARD
TZOFFSETFROM:-0400
TZOFFSETTO:-0500
TZNAME:EST
DTSTART:20211107T060000
END:STANDARD
BEGIN:DAYLIGHT
TZOFFSETFROM:-0500
TZOFFSETTO:-0400
TZNAME:EDT
DTSTART:20220313T070000
END:DAYLIGHT
BEGIN:STANDARD
TZOFFSETFROM:-0400
TZOFFSETTO:-0500
TZNAME:EST
DTSTART:20221106T060000
END:STANDARD
BEGIN:DAYLIGHT
TZOFFSETFROM:-0500
TZOFFSETTO:-0400
TZNAME:EDT
DTSTART:20230312T070000
END:DAYLIGHT
BEGIN:STANDARD
TZOFFSETFROM:-0400
TZOFFSETTO:-0500
TZNAME:EST
DTSTART:20231105T060000
END:STANDARD
BEGIN:DAYLIGHT
TZOFFSETFROM:-0500
TZOFFSETTO:-0400
TZNAME:EDT
DTSTART:20240310T070000
END:DAYLIGHT
BEGIN:STANDARD
TZOFFSETFROM:-0400
TZOFFSETTO:-0500
TZNAME:EST
DTSTART:20241103T060000
END:STANDARD
END:VTIMEZONE
BEGIN:VEVENT
DTSTART;TZID=America/New_York:20230920T100000
DTEND;TZID=America/New_York:20230920T100000
DTSTAMP:20260419T174639
CREATED:20230914T121659Z
LAST-MODIFIED:20230919T191449Z
UID:10000044-1695204000-1695204000@gardenclubofhingham.org
SUMMARY:The Art and Science of Mushrooming
DESCRIPTION:Tyler Akabane\, owner of The Mushroom Shop\, Somerville\, MA \nTyler Akabane has been supplying area restaurants with mushrooms for more than a decade.  He opened The Mushroom Shop in May 2022 and sells foraged and cultivated culinary mushrooms alongside books\, gifts and food products. Tyler is interested in and will discuss the cultural and social aspects of mushroom hunting\, what you can find locally in your yard woods\, and – as Tyler put it – “the whole wild world living in the soil”. He currently serves on the Executive Committee of the Boston Mycological Society.
URL:https://gardenclubofhingham.org/event/the-art-and-science-of-mushrooming/
LOCATION:Old Ordinary Annex\, 21 Lincoln Street\, Hingham\, MA\, 02043\, United States
CATEGORIES:Members Only,Programs
ATTACH;FMTTYPE=image/jpeg:https://gardenclubofhingham.org/wp-content/uploads/2023/09/mushrooms2.jpg
END:VEVENT
BEGIN:VEVENT
DTSTART;TZID=America/New_York:20230513T084500
DTEND;TZID=America/New_York:20230513T120000
DTSTAMP:20260419T174639
CREATED:20221106T230710Z
LAST-MODIFIED:20230407T170219Z
UID:10000023-1683967500-1683979200@gardenclubofhingham.org
SUMMARY:Teacup Sale
DESCRIPTION:The Teacup sale is special fundraiser for Mother’s Day and takes place on May 13\, the Saturday before Mother’s Day. The committee creates beautiful Spring arrangements in decorative teacups that are sold throughout the Hingham community as Mother’s Day gifts. If you enjoy flower arranging and want to help the community celebrate Mothers\, this is a wonderful way to participate and give back. \n  \n 
URL:https://gardenclubofhingham.org/event/teacup-sale-2/
LOCATION:MA
CATEGORIES:Members Only
ATTACH;FMTTYPE=image/jpeg:https://gardenclubofhingham.org/wp-content/uploads/2023/04/teacups-8575-Edit.jpg
END:VEVENT
BEGIN:VEVENT
DTSTART;TZID=America/New_York:20230513T084500
DTEND;TZID=America/New_York:20230513T120000
DTSTAMP:20260419T174639
CREATED:20221030T163349Z
LAST-MODIFIED:20230407T165118Z
UID:10000014-1683967500-1683979200@gardenclubofhingham.org
SUMMARY:Teacup Sale
DESCRIPTION:Celebrate and honor your Mother\, Grandmother\, or a special someone on Mother’s Day by purchasing a beautiful bouquet of flowers tastefully designed and displayed in an antique teacup.
URL:https://gardenclubofhingham.org/event/teacup-sale/
LOCATION:MA
CATEGORIES:Public Only,Special Events
ATTACH;FMTTYPE=image/jpeg:https://gardenclubofhingham.org/wp-content/uploads/2023/04/teacups-8571-Edit.jpg
END:VEVENT
BEGIN:VEVENT
DTSTART;TZID=America/New_York:20221105T083000
DTEND;TZID=America/New_York:20221105T083000
DTSTAMP:20260419T174639
CREATED:20221104T203451Z
LAST-MODIFIED:20221104T203451Z
UID:10000020-1667637000-1667637000@gardenclubofhingham.org
SUMMARY:Dummy Event
DESCRIPTION:jqnvinvpfqvnqpnv
URL:https://gardenclubofhingham.org/event/dummy-event/
LOCATION:Bedrock Gardens\, Lee\, New Hampshire
CATEGORIES:Members Only
END:VEVENT
BEGIN:VEVENT
DTSTART;VALUE=DATE:20221005
DTEND;VALUE=DATE:20221006
DTSTAMP:20260419T174639
CREATED:20220922T234821Z
LAST-MODIFIED:20221025T130805Z
UID:10000001-1664928000-1665014399@gardenclubofhingham.org
SUMMARY:Field Trip
DESCRIPTION:
URL:https://gardenclubofhingham.org/event/field-trip/
LOCATION:Bedrock Gardens\, Lee\, New Hampshire
CATEGORIES:Field Trips,Members and Public
END:VEVENT
END:VCALENDAR