BEGIN:VCALENDAR
VERSION:2.0
PRODID:-//The Garden Club of Hingham - ECPv6.15.18//NONSGML v1.0//EN
CALSCALE:GREGORIAN
METHOD:PUBLISH
X-ORIGINAL-URL:https://gardenclubofhingham.org
X-WR-CALDESC:Events for The Garden Club of Hingham
REFRESH-INTERVAL;VALUE=DURATION:PT1H
X-Robots-Tag:noindex
X-PUBLISHED-TTL:PT1H
BEGIN:VTIMEZONE
TZID:America/New_York
BEGIN:DAYLIGHT
TZOFFSETFROM:-0500
TZOFFSETTO:-0400
TZNAME:EDT
DTSTART:20210314T070000
END:DAYLIGHT
BEGIN:STANDARD
TZOFFSETFROM:-0400
TZOFFSETTO:-0500
TZNAME:EST
DTSTART:20211107T060000
END:STANDARD
BEGIN:DAYLIGHT
TZOFFSETFROM:-0500
TZOFFSETTO:-0400
TZNAME:EDT
DTSTART:20220313T070000
END:DAYLIGHT
BEGIN:STANDARD
TZOFFSETFROM:-0400
TZOFFSETTO:-0500
TZNAME:EST
DTSTART:20221106T060000
END:STANDARD
BEGIN:DAYLIGHT
TZOFFSETFROM:-0500
TZOFFSETTO:-0400
TZNAME:EDT
DTSTART:20230312T070000
END:DAYLIGHT
BEGIN:STANDARD
TZOFFSETFROM:-0400
TZOFFSETTO:-0500
TZNAME:EST
DTSTART:20231105T060000
END:STANDARD
BEGIN:DAYLIGHT
TZOFFSETFROM:-0500
TZOFFSETTO:-0400
TZNAME:EDT
DTSTART:20240310T070000
END:DAYLIGHT
BEGIN:STANDARD
TZOFFSETFROM:-0400
TZOFFSETTO:-0500
TZNAME:EST
DTSTART:20241103T060000
END:STANDARD
BEGIN:DAYLIGHT
TZOFFSETFROM:-0500
TZOFFSETTO:-0400
TZNAME:EDT
DTSTART:20250309T070000
END:DAYLIGHT
BEGIN:STANDARD
TZOFFSETFROM:-0400
TZOFFSETTO:-0500
TZNAME:EST
DTSTART:20251102T060000
END:STANDARD
BEGIN:DAYLIGHT
TZOFFSETFROM:-0500
TZOFFSETTO:-0400
TZNAME:EDT
DTSTART:20260308T070000
END:DAYLIGHT
BEGIN:STANDARD
TZOFFSETFROM:-0400
TZOFFSETTO:-0500
TZNAME:EST
DTSTART:20261101T060000
END:STANDARD
END:VTIMEZONE
BEGIN:VEVENT
DTSTART;TZID=America/New_York:20251205T100000
DTEND;TZID=America/New_York:20251205T120000
DTSTAMP:20260425T090511
CREATED:20240829T112753Z
LAST-MODIFIED:20250903T114918Z
UID:10000060-1764928800-1764936000@gardenclubofhingham.org
SUMMARY:The Mistletoe Market
DESCRIPTION:Create\, make merry\, and bid on gorgeous holiday décor items made by your fellow Garden Club members. Bring your friends and family to this interactive winter FUNraiser! Design and donate holiday arrangements for the silent auction or harvest and contribute holiday greenery bundles\nfrom your garden. \nWays you might contribute:\n• Find an inspired container and design a tabletop display or bulb centerpiece.\n• Dream up and create a wreath or swag.\n• Gather greenery cuttings\, winter berries\, dried seed pods\, and flowers for the Holiday Boughs Booth. \nThis silent auction social is a fun way to jump start your holiday decorating\, socialize\, and appreciate our talented Club members!
URL:https://gardenclubofhingham.org/event/december-special-event-2026/
LOCATION:Second Parish Church\, 685 Main Street\, Hingham\, MA\, 02043\, United States
CATEGORIES:Members and Public,Special Events
END:VEVENT
BEGIN:VEVENT
DTSTART;TZID=America/New_York:20251022T103000
DTEND;TZID=America/New_York:20251022T123000
DTSTAMP:20260425T090511
CREATED:20240830T195016Z
LAST-MODIFIED:20250829T181508Z
UID:10000066-1761129000-1761136200@gardenclubofhingham.org
SUMMARY:Halloween Garden Therapy
DESCRIPTION:Members of the Garden Club will assist Allerton residents in making colorful Halloween arrangements. Setting up\, collaborating with the residents\, and cleaning up will take approximately 2 hours. All the supplies will be provided.
URL:https://gardenclubofhingham.org/event/october-garden-therapy-2025/
LOCATION:Allerton House\, 15 Condito Road\, Hingham\, 02043\, United States
CATEGORIES:Members and Public,Special Events
END:VEVENT
BEGIN:VEVENT
DTSTART;VALUE=DATE:20240609
DTEND;VALUE=DATE:20240610
DTSTAMP:20260425T090511
CREATED:20230916T144253Z
LAST-MODIFIED:20240204T172814Z
UID:10000050-1717891200-1717977599@gardenclubofhingham.org
SUMMARY:Centennial Garden Tour
DESCRIPTION:The Garden Tour will feature beautiful gardens that have been on tour before and some that will be shown for the first time. Tour patrons will visit different Hingham neighborhoods that showcase how Hingham has changed and yet stayed the same over the last 100 years as a residential suburb.
URL:https://gardenclubofhingham.org/event/centennial-garden-tour/
CATEGORIES:Members and Public,Special Events
END:VEVENT
BEGIN:VEVENT
DTSTART;TZID=America/New_York:20240515T100000
DTEND;TZID=America/New_York:20240515T100000
DTSTAMP:20260425T090511
CREATED:20221017T201517Z
LAST-MODIFIED:20240130T231512Z
UID:10000009-1715767200-1715767200@gardenclubofhingham.org
SUMMARY:Spring Floral Design
DESCRIPTION:Sarah Boynton and Ellen Garrow \nBack by popular demand\, Garden Club members Sarah Boynton and Ellen Garrow will share their talent and inspiration as they lead us through a captivating demonstration of creative floral design for spring. As they work their magic creating a series of unique arrangements\, everyone will learn about key mechanics\, the latest and tried and true materials and tools\, techniques for conditioning\, and more. \nSarah is a passionate flower show competitor\, specializing in botanical arts and traditional flower designs.  She has earned top honors in flower shows both nationally and internationally.
URL:https://gardenclubofhingham.org/event/may-meeting/
LOCATION:Second Parish Church\, 685 Main Street\, Hingham\, MA\, 02043\, United States
CATEGORIES:Members and Public,Programs
ATTACH;FMTTYPE=image/jpeg:https://gardenclubofhingham.org/wp-content/uploads/2023/04/floralpic1.jpg
END:VEVENT
BEGIN:VEVENT
DTSTART;VALUE=DATE:20240426
DTEND;VALUE=DATE:20240429
DTSTAMP:20260425T090511
CREATED:20221030T161333Z
LAST-MODIFIED:20230919T190642Z
UID:10000012-1714089600-1714348799@gardenclubofhingham.org
SUMMARY:Art in Bloom
DESCRIPTION:Celebrate the return of spring with Art in Bloom\, the Museum of Fine Arts’ annual festival of fine art and flowers.  Come and enjoy exquisite art from across the MFA’s collection paired with magnificent floral interpretations created by New England-area garden clubs. Professional designers delight with creative designs in Museum entrances and public spaces. Daily events include tours of flower arrangements throughout the galleries; demonstrations of floral arranging for your home; casual dining among masterpieces; and outdoor walking tours.
URL:https://gardenclubofhingham.org/event/art-in-bloom/
LOCATION:Museum of Fine Arts\, 465 Huntington Ave\, Boston\, MA\, 02115\, United States
CATEGORIES:Members and Public,Special Events
END:VEVENT
BEGIN:VEVENT
DTSTART;TZID=America/New_York:20240424T100000
DTEND;TZID=America/New_York:20240424T120000
DTSTAMP:20260425T090511
CREATED:20230916T142925Z
LAST-MODIFIED:20240307T193717Z
UID:10000049-1713952800-1713960000@gardenclubofhingham.org
SUMMARY:Get Acquainted with the art of Ikenobo Ikebana
DESCRIPTION:Mimi Santini-Ritt\, Level 14 Professor of Ikebana  \nWelcome spring by learning about the Japanese art of flower arranging\, Ikebana\, with Mimi Santini-Ritt. Mimi will design between five and seven inspiring arrangements while sharing her in-depth knowledge of Ikenobo (the oldest school of Japanese flower arranging) and Ikebana.  \nMimi Santini-Ritt has studied Ikenobo extensively in both the U.S. and in Japan for over 20 years. In February\, 2020 she completed the Kyoyoka–a course of studies at the Ikenobo Central Training Institute in Kyoto and is currently enrolled in Kyoyoka-B. Mimi teaches\, exhibits and demonstrates the art of Japanese flower arranging throughout the greater Boston area. She is a past president of the Ikenobo Ikebana Society of Boston. When not practicing Ikenobo\, Mimi can often be found at the Museum of Fine Arts\, where she does volunteer work in Egyptian Storage and Conservation.
URL:https://gardenclubofhingham.org/event/get-acquainted-with-the-art-of-ikenobo-ikebana/
LOCATION:Second Parish Church\, 685 Main Street\, Hingham\, MA\, 02043\, United States
CATEGORIES:Members and Public,Programs
ATTACH;FMTTYPE=image/jpeg:https://gardenclubofhingham.org/wp-content/uploads/2023/09/ikebana.jpg
END:VEVENT
BEGIN:VEVENT
DTSTART;TZID=America/New_York:20240320T100000
DTEND;TZID=America/New_York:20240320T120000
DTSTAMP:20260425T090511
CREATED:20230918T002323Z
LAST-MODIFIED:20240130T232140Z
UID:10000053-1710928800-1710936000@gardenclubofhingham.org
SUMMARY:Growing Your Own Cutting Garden\, Tips and Tricks for Growing and Dividing Dahlias
DESCRIPTION:Lisa Berkin\, owner\, Lisa Berkin Designs and Berkin Farms \nLisa\, a longtime Garden Club of Hingham member\, will show us the latest methods for successfully growing our own cutting gardens using organic practices and principles of succession planting. We will learn how these techniques help produce blooms all season and create an environment that attracts beneficial insects and a wider variety of birds. Lisa will also share tips and tricks for growing dahlias and storing\, dividing\, and maintaining tubers for year after year enjoyment. \nSince 2004\, Lisa Berkin Designs has spread the beauty of lush florals across Hingham and its surrounding areas through meticulously crafted container gardens and floral designs. \nLisa Berkin Designs has expanded into the sustainable\, low-till regenerative flower farming space at Berkin Farms in Hingham\, where beautiful specialty flowers and native Northeastern varieties are available three seasons per year.
URL:https://gardenclubofhingham.org/event/growing-your-own-cutting-garden-tips-and-tricks-for-growing-and-dividing-dahlias-2/
LOCATION:Second Parish Church\, 685 Main Street\, Hingham\, MA\, 02043\, United States
CATEGORIES:Members and Public,Programs
ATTACH;FMTTYPE=image/jpeg:https://gardenclubofhingham.org/wp-content/uploads/2023/09/dahlia2.jpg
END:VEVENT
BEGIN:VEVENT
DTSTART;TZID=America/New_York:20240214T100000
DTEND;TZID=America/New_York:20240214T120000
DTSTAMP:20260425T090511
CREATED:20230916T140021Z
LAST-MODIFIED:20230918T174514Z
UID:10000047-1707904800-1707912000@gardenclubofhingham.org
SUMMARY:Invasive Plant Management
DESCRIPTION:Erik Sechler\, Ecological Programs Coordinator\, Native Plant Trust \nErik will give a presentation on invasive plant management\, which will include early detection of invasive plants and invasive plant species most likely to move into New England within the next 10 years. \nPrior to joining Native Plant Trust\, Erik worked with the Pennsylvania Natural Heritage Program as an ecological information specialist and county inventory ecologist\, and with the New York Natural Heritage Program as an ecologist specializing in natural community ecology\, avian habitat ecology and vegetation mapping. He has more than 10 years of experience working for a Natural Heritage Program and NatureServe as an ecologist and has also worked with Manomet and The Trustees of Reservations on Martha’s Vineyard.
URL:https://gardenclubofhingham.org/event/invasive-plant-management/
LOCATION:Zoom
CATEGORIES:Members and Public,Programs
ATTACH;FMTTYPE=image/jpeg:https://gardenclubofhingham.org/wp-content/uploads/2023/09/knotweed.jpg
END:VEVENT
BEGIN:VEVENT
DTSTART;TZID=America/New_York:20240207T100000
DTEND;TZID=America/New_York:20240207T120000
DTSTAMP:20260425T090511
CREATED:20230916T135754Z
LAST-MODIFIED:20230918T173042Z
UID:10000046-1707300000-1707307200@gardenclubofhingham.org
SUMMARY:Garden Therapy
DESCRIPTION:Garden Club Members will visit Allerton House and assist residents to make a festive Valentine’s Day arrangement. Please bring shears or scissors. Arranging and clean-up usually lasts 1-2 hours.
URL:https://gardenclubofhingham.org/event/garden-therapy-2/
LOCATION:Allerton House\, 15 Condito Road\, Hingham\, 02043\, United States
CATEGORIES:Members and Public,Special Events
ATTACH;FMTTYPE=image/jpeg:https://gardenclubofhingham.org/wp-content/uploads/2023/09/valentine.jpg
END:VEVENT
BEGIN:VEVENT
DTSTART;TZID=America/New_York:20231213T090000
DTEND;TZID=America/New_York:20231213T150000
DTSTAMP:20260425T090511
CREATED:20230914T121114Z
LAST-MODIFIED:20230919T174005Z
UID:10000043-1702458000-1702479600@gardenclubofhingham.org
SUMMARY:Christmas at Blithewold
DESCRIPTION:Please join us for a festive journey to Blithewold Mansion in Bristol\, Rhode Island to celebrate the holidays! Enjoy Christmas tea and tour the beautifully decorated rooms and gardens of an historic home. This year’s theme is “All About Augustine”. (Please see website link for more detail). The cost of the trip includes tea and tour\, $56 per person. Plan on being on site for about 3 hours. The travel time to Bristol from Hingham is about 1 hour 15 minutes. Carpools will depart Resurrection Church at 9:15 a.m. and the tour will begin at 11:00 a.m. followed by tea at 1:00 p.m.
URL:https://gardenclubofhingham.org/event/christmas-at-blithewold/
LOCATION:Blithwold Mansion\, 101 Ferry Road\, Bristol\, RI\, United States
CATEGORIES:Field Trips,Members and Public
ATTACH;FMTTYPE=image/jpeg:https://gardenclubofhingham.org/wp-content/uploads/2023/09/blithwold2.jpg
END:VEVENT
BEGIN:VEVENT
DTSTART;TZID=America/New_York:20231115T100000
DTEND;TZID=America/New_York:20231115T100000
DTSTAMP:20260425T090511
CREATED:20221017T200316Z
LAST-MODIFIED:20240826T222720Z
UID:10000003-1700042400-1700042400@gardenclubofhingham.org
SUMMARY:Shade Gardening
DESCRIPTION:With Sue DuBrava and Chuck Doughty\, owners of Cochato Nurseries\, horticulturists\, and rare and unique plant enthusiasts \nIn the early 1990’s Chuck Doughty and Sue DuBrava purchased five acres of land to develop a nursery.  Fast forward to today\, Cochato Nurseries has been written up in many gardening magazines and books as a “must-see” destination. Their nursery offers beautiful display gardens with a wisteria covered pergola\, a koi pond\, waterfall and many very interesting and beautiful plant specimens—including a wide array of shade-loving plants. \nChuck and Sue will discuss the unique trees\, shrubs and perennials they work with daily and describe how to create a beautiful garden of any size that is suited to shade. \nChuck recently retired from Northeastern University where he developed an Arboretum at the main campus in Boston.  Chuck is also a member of the Horticultural Club of Boston\, as well as the American Hosta Society\, The New England Hosta Society\, The Rock Garden Club and American Conifer Society.  Being an avid photographer\, he has traveled to the Rio Negro in the Amazon 9 times\, Cuba twice\, as well as to Iceland and Sicily.
URL:https://gardenclubofhingham.org/event/november-meeting/
LOCATION:Hingham Public Library\, 66 Leavitt St\, Hingham\, 02043
CATEGORIES:Members and Public,Programs
END:VEVENT
BEGIN:VEVENT
DTSTART;TZID=America/New_York:20231109T100000
DTEND;TZID=America/New_York:20231109T113000
DTSTAMP:20260425T090511
CREATED:20230914T120317Z
LAST-MODIFIED:20231024T125057Z
UID:10000042-1699524000-1699529400@gardenclubofhingham.org
SUMMARY:GCFM Floral Design Workshop  Color—Using it Well
DESCRIPTION:What is the first thing that catches your eye in a floral arrangement? Color\, of course! This workshop will explore different color schemes—analogous\, complementary\, and triadic–to illustrate how to combine colors to create harmonious combinations. Ruth Evans\, flower show judge and winner of numerous flower show awards\, will teach this class. The workshop includes instruction and floral materials to create your arrangement. \nCost: $55 until October 20; after that date the cost is $60\, so please sign up early. Attendance is limited to 50. \nTo register please mail your check\, made out to Garden Club Federation of Massachusetts\, Inc.\, along with your name\, garden club (if you are a member)\, and email address to Margo Yie\, 6 Dancer Farm Drive\, Dover\, MA 02030
URL:https://gardenclubofhingham.org/event/gcfm-floral-design-workshop-color-using-it-well/
LOCATION:Saint Susanna Church\, 262 Needham Street\, Dedham\, MA\, United States
CATEGORIES:Members and Public,Workshops
END:VEVENT
BEGIN:VEVENT
DTSTART;VALUE=DATE:20221005
DTEND;VALUE=DATE:20221006
DTSTAMP:20260425T090511
CREATED:20220922T234821Z
LAST-MODIFIED:20221025T130805Z
UID:10000001-1664928000-1665014399@gardenclubofhingham.org
SUMMARY:Field Trip
DESCRIPTION:
URL:https://gardenclubofhingham.org/event/field-trip/
LOCATION:Bedrock Gardens\, Lee\, New Hampshire
CATEGORIES:Field Trips,Members and Public
END:VEVENT
END:VCALENDAR